BEGIN:VCALENDAR
VERSION:2.0
PRODID:-//Inekeramiek - ECPv6.15.20//NONSGML v1.0//EN
CALSCALE:GREGORIAN
METHOD:PUBLISH
X-WR-CALNAME:Inekeramiek
X-ORIGINAL-URL:https://inekeramiek.nl
X-WR-CALDESC:Evenementen voor Inekeramiek
REFRESH-INTERVAL;VALUE=DURATION:PT1H
X-Robots-Tag:noindex
X-PUBLISHED-TTL:PT1H
BEGIN:VTIMEZONE
TZID:Europe/Amsterdam
BEGIN:DAYLIGHT
TZOFFSETFROM:+0100
TZOFFSETTO:+0200
TZNAME:CEST
DTSTART:20230326T010000
END:DAYLIGHT
BEGIN:STANDARD
TZOFFSETFROM:+0200
TZOFFSETTO:+0100
TZNAME:CET
DTSTART:20231029T010000
END:STANDARD
BEGIN:DAYLIGHT
TZOFFSETFROM:+0100
TZOFFSETTO:+0200
TZNAME:CEST
DTSTART:20240331T010000
END:DAYLIGHT
BEGIN:STANDARD
TZOFFSETFROM:+0200
TZOFFSETTO:+0100
TZNAME:CET
DTSTART:20241027T010000
END:STANDARD
BEGIN:DAYLIGHT
TZOFFSETFROM:+0100
TZOFFSETTO:+0200
TZNAME:CEST
DTSTART:20250330T010000
END:DAYLIGHT
BEGIN:STANDARD
TZOFFSETFROM:+0200
TZOFFSETTO:+0100
TZNAME:CET
DTSTART:20251026T010000
END:STANDARD
BEGIN:DAYLIGHT
TZOFFSETFROM:+0100
TZOFFSETTO:+0200
TZNAME:CEST
DTSTART:20260329T010000
END:DAYLIGHT
BEGIN:STANDARD
TZOFFSETFROM:+0200
TZOFFSETTO:+0100
TZNAME:CET
DTSTART:20261025T010000
END:STANDARD
END:VTIMEZONE
BEGIN:VEVENT
DTSTART;TZID=Europe/Amsterdam:20251101T100000
DTEND;TZID=Europe/Amsterdam:20251102T170000
DTSTAMP:20260423T003703
CREATED:20250831T080213Z
LAST-MODIFIED:20250831T080213Z
UID:1213-1761991200-1762102800@inekeramiek.nl
SUMMARY:Kunstlijn Haarlem 2025
DESCRIPTION:Ook dit jaar exposeer ik mijn keramiek weer tijdens de Kunstlijn Haarlem op de Bakenessergracht 50\, 2111JX te Haarlem tijdens het weekend van 1 en 2 november. \nDe Kunstlijn bestaat dit jaar 40 jaar en het thema is ‘Grenzeloos‘ \nMijn Kunstlijn profielpagina is hier te zien.
URL:https://inekeramiek.nl/event/kunstlijn-haarlem-2025/
LOCATION:Hartwerk en Kunst\, Bakenessergracht 50\, Haarlem\, Netherlands
END:VEVENT
BEGIN:VEVENT
DTSTART;TZID=Europe/Amsterdam:20250507T080000
DTEND;TZID=Europe/Amsterdam:20250628T170000
DTSTAMP:20260423T003703
CREATED:20250506T095046Z
LAST-MODIFIED:20250506T102130Z
UID:1035-1746604800-1751130000@inekeramiek.nl
SUMMARY:Expositie in Galerie te Kunst en te Keur
DESCRIPTION:Van 7 mei t/m 28 juni heb m’n meest recente werk geëxposeerd\nin Galerie Te Kunst en te Keur in Scherpenzeel. \n 
URL:https://inekeramiek.nl/event/expositie-in-galerie-te-kunst-en-te-keur/
LOCATION:Galerie Te Kunst en Te Keur\, Dorpsstraat 220\, Scherpenzeel\, Gelderland\, 3925KJ\, Netherlands
END:VEVENT
BEGIN:VEVENT
DTSTART;TZID=Europe/Amsterdam:20241102T100000
DTEND;TZID=Europe/Amsterdam:20241103T170000
DTSTAMP:20260423T003703
CREATED:20240730T191230Z
LAST-MODIFIED:20240730T192102Z
UID:987-1730541600-1730653200@inekeramiek.nl
SUMMARY:Kunstlijn Haarlem 2024
DESCRIPTION:Ook dit jaar exposeer ik weer tijdens de Haarlemse Kunstlijn \nop 2 en 3 november 2024. \n \nThema V E R W A R R I N G \nMijn expositie is te vinden op de Bakenessergracht 50 in Haarlem \n 
URL:https://inekeramiek.nl/event/kunstlijn-haarlem-2024/
LOCATION:Hartwerk en Kunst\, Bakenessergracht 50\, Haarlem\, Netherlands
END:VEVENT
BEGIN:VEVENT
DTSTART;TZID=Europe/Amsterdam:20240908T110000
DTEND;TZID=Europe/Amsterdam:20240908T173000
DTSTAMP:20260423T003703
CREATED:20240903T154754Z
LAST-MODIFIED:20240903T155802Z
UID:1003-1725793200-1725816600@inekeramiek.nl
SUMMARY:FLURT Festival
DESCRIPTION:Zondag 8 September stel ik mijn werk tentoon op het FLURT Festival in Heemstede. De opening is om 11:00 uur en het festival sluit om 17:30
URL:https://inekeramiek.nl/event/flurt-festival/
LOCATION:Noord-Holland
END:VEVENT
END:VCALENDAR