BEGIN:VCALENDAR
VERSION:2.0
PRODID:-//Inekeramiek - ECPv6.15.20//NONSGML v1.0//EN
CALSCALE:GREGORIAN
METHOD:PUBLISH
X-WR-CALNAME:Inekeramiek
X-ORIGINAL-URL:https://inekeramiek.nl
X-WR-CALDESC:Evenementen voor Inekeramiek
REFRESH-INTERVAL;VALUE=DURATION:PT1H
X-Robots-Tag:noindex
X-PUBLISHED-TTL:PT1H
BEGIN:VTIMEZONE
TZID:Europe/Amsterdam
BEGIN:DAYLIGHT
TZOFFSETFROM:+0100
TZOFFSETTO:+0200
TZNAME:CEST
DTSTART:20250330T010000
END:DAYLIGHT
BEGIN:STANDARD
TZOFFSETFROM:+0200
TZOFFSETTO:+0100
TZNAME:CET
DTSTART:20251026T010000
END:STANDARD
BEGIN:DAYLIGHT
TZOFFSETFROM:+0100
TZOFFSETTO:+0200
TZNAME:CEST
DTSTART:20260329T010000
END:DAYLIGHT
BEGIN:STANDARD
TZOFFSETFROM:+0200
TZOFFSETTO:+0100
TZNAME:CET
DTSTART:20261025T010000
END:STANDARD
BEGIN:DAYLIGHT
TZOFFSETFROM:+0100
TZOFFSETTO:+0200
TZNAME:CEST
DTSTART:20270328T010000
END:DAYLIGHT
BEGIN:STANDARD
TZOFFSETFROM:+0200
TZOFFSETTO:+0100
TZNAME:CET
DTSTART:20271031T010000
END:STANDARD
END:VTIMEZONE
BEGIN:VEVENT
DTSTART;VALUE=DATE:20260304
DTEND;VALUE=DATE:20260601
DTSTAMP:20260423T004012
CREATED:20260302T083056Z
LAST-MODIFIED:20260302T083601Z
UID:1282-1772582400-1780271999@inekeramiek.nl
SUMMARY:Expositie in het Kleinste Museum van Haarlem
DESCRIPTION:Als winnaar van de kinderjury prijs van de Kunstlijn Haarlem 2025 heb ik de eer om mijn werk te mogen exposeren in het Kleinste Museum van Haarlem.
URL:https://inekeramiek.nl/event/expositie-in-het-kleinste-museum-van-haarlem/
LOCATION:Kunst Centrum Haarlem\, Gedempte Oude Gracht 117-121\, Haarlem\, Noord-Holland\, Netherlands
END:VEVENT
END:VCALENDAR